Workbook

Sheet Info
B1: Tool for techno-economic analysis of integrating
B2: data centre waste heat into district heating
A4: Version 1.1 - October 2026
A5: © e-think energy research, 2024 - 2026
A6: Contact: office@e-think.ac.at
A8: This tool is intended for purposes such as research and support in estimating costs and benefits of integrating waste heat in district heating.
A9: Feedback is highly appreciated.
A10: This tool has been developed within the Support DHC project funded by the EU LIFE Programme. It intends to provide a simple method to calculate the break-even heat price for waste heat from data centres. It allows the user to provide techno-economic information on technical equipment necessary to connect the DC with an existing district heating network (i.e. heat pump, booster technology and additional piping).
A11: The user can also define a set of typical days with individual energy prices, temperature levels as well as heat demand and heat supply capacities and combine these typical days to a typical year, for which then the break-even calculation is done.
A13: Note that all economic parameters in the tool are expressed in constant prices (e.g. EUR 2025).
A14: It is assumed that all costs and prices increase at the same inflation rate over time.
A16: The authors accept no responsibility for the topicality, accuracy, completeness or quality of the tool in general, or the results in particular.
A18: A user manual accompanies the tool, explaining the structure of the workbook, the required input parameters, the calculation logic, and the interpretation of results. It is designed to help users apply the tool effectively and carry out preliminary feasibility assessments for waste heat integration projects.
A20: This work is licensed under a Creative Commons CC BY 4.0 International License.
... A24: Reviewer: Thomas Pauschinger (AGFW)

Sheet Content
A1: Worksheets & Workflow
A3: Project Setting | B3: Specify the project techno-economic data regarding heat pump, booster, heat recovery system, etc.
A4: Grid Costs | B4: Calculate additional grid / piping costs to connect the data centre (DC) with the existing district heating (DH) network
A5: Definition of Typical Day | B5: Define typical days comprising a year and set their parameters such as heat demand & supply, temperature levels and energy prices for typical days
A6: Definition of Typical Year | B6: Combine "Typical Days" to define the "Typical Year": Define the share of the "Typical Days" on a "Typical Year"
A7: Main Results - IRR DC Operator | B7: Visualise the results with different contract types and cost shares, focusing on the waste heat recovery system at the DC plant side
A8: Operation at Typical Day | B8: Visualise the energy and cost profile of a selected typical day
A9: Calculation IRR | B9: Calculate the Internal Rate of Return (IRR)
A10: Calculation Break-Even | B10: Calculate the break-even waste heat price
A11: Main Results Extended | B11: Visualise the results with different contract types and cost shares for the entire system (waste heat recovery and heat utilisation)
A12: Calculation of Typical Day | B12: Determine the energy balance and economic parameters of each typical day
A13: Calculation of Typical Year | B13: Determine the energy balance and economic parameters for the typical year
A14: Additional Information | B14: Additional explanations of the parameters used in the calculations
... A16: Change Log | B16: Overview of changes between tool versions
A17: Colour code:
A19: Header
A20: Item / unit
A21: User input
A22: Cell with formula
A23: Go to content
A24: Input - not used for calculation
A25: Not used anymore: relevant for future works - do not change
A26: Control cells
A27: Check settings / input data, there might be some error
A29: Go to content
A31: The main calculation sheets in this workbook are secured with a password in order not to do unintended changes
A32: PW: 1234

Sheet Project Setting
B1: Go to Content
B3: Colour Code | C3: Header
C4: Item / unit
C5: User input
C6: Cell with formula
C7: Go to Content
C8: Input - not used for calculation
C9: Control cells
B11: Category | C11: Sub-Category | D11: Item | E11: Unit | H11: Description
A12: HEAT PUMP AND BOOSTER SYSTEM INCLUDING HEAT EXCHANGER AND PIPING TO THE DH GRID (B2 - B3) | B12: Heat pump | D12: All monetary values are expressed in constant prices (e.g. EUR 2025) | J12: CONTRACTOR 1 / DH OPERATOR
C13: Technical data
D14: Generating capacity | E14: MW_th | F14: 3 | H14: Nominal capacity of heat pump (heat output, MW_th_nominal_out); this value should be based on the available heat from the data Centre (in the sheet "Definition of Typical Day" - Available waste heat (DC heat source) | I14: Link to additional information / German translation | M14: =N14 | N14: =IF(IFERROR((1+F14)*1, "!!!!")="!!!!","Inputs contain non-numerical data. Please check your input data!","")
D15: Technical lifetime | E15: Years | F15: 20 | H15: The typical lifetime of a water-to-water heat pump is between 15 and 25 years, depending on many factors. Average lifetime can thus be estimated as 20 years. | I15: Link to additional information / German translation | M15: =N15 | N15: =IF(IFERROR((1+F15)*1, "!!!!")="!!!!","Inputs contain non-numerical data. Please check your input data!","")
D16: COP - nominal | E16: [MW / MW] | F16: 3 | H16: ="COP at "&F20&"°C supply temperature under nominal temperature levels as defined below" -> COP at 90°C supply temperature under nominal temperature levels as defined below | I16: Link to additional information / German translation | M16: =N16 | N16: =IF(IFERROR((1+F16)*1, "!!!!")="!!!!","Inputs contain non-numerical data. Please check your input data!","")
D17: Capacity of waste heat stream (MW) at nominal operation conditions | E17: MW_th_nominal_in | F17: =F14/F16*(F16-1) -> 2 | H17: This is the HP system capacity related to the waste heat stream (waste heat source). This capacity shall be in the order of magnitude of the waste heat energy source or the feed-in capacity of the district heating system. The difference between MW_th_in and MW_th (MW_th_nominal_out) is the electricity input. | I17: Link to additional information / German translation | M17: =N17 | N17: =IF(IFERROR((1+F17)*1, "!!!!")="!!!!","Inputs contain non-numerical data. Please check your input data!","")
D18: Nominal temperature - heat pump source in | E18: °C | F18: 25 | H18: Source-side inlet temperature: The temperature of the heat source fluid before it enters the evaporator. Nominal temperature for the selected heat pump (e.g. from specification sheets of the heat pump). The actual temperatur of the waste heat source shall be provided in the sheet >Definition of Typical Day<. | I18: Link to additional information / German translation | M18: =N18 | N18: =IF(IFERROR((1+F18)*1, "!!!!")="!!!!","Inputs contain non-numerical data. Please check your input data!","")
D19: Nominal temperature - heat pump source out | E19: °C | F19: 28 | H19: Source-side outlet temperature: The temperature of the heat source fluid after it has passed through the evaporator and given up heat to the refrigerant. Nominal temperature for the selected heat pump (e.g. from specification sheets). | I19: Link to additional information / German translation | M19: =N19 | N19: =IF(IFERROR((1+F19)*1, "!!!!")="!!!!","Inputs contain non-numerical data. Please check your input data!","")
D20: Nominal temperature - heat pump sink out | E20: °C | F20: 90 | H20: Sink-side outlet Temperature: The temperature of the heat sink fluid after it has passed through the condenser and absorbed heat from the refrigerant. Nominal temperature for the selected heat pump (e.g. from specification sheets). The actual temperatur of the heat sink (e.g. district heating network supply line temperature) shall be provided in the sheet >Definition of Typical Day<. | I20: Link to additional information / German translation | M20: =N20 | N20: =IF(IFERROR((1+F20)*1, "!!!!")="!!!!","Inputs contain non-numerical data. Please check your input data!","")
D21: HEx 2: Heat exchanger (HP - district heating network) delta T | E21: K | F21: 3 | H21: Temperature drop that occurs due to losses in the heat exchanger and heat pipe between the Heat Pump and the DH network. | I21: Link to additional information / German translation | M21: =N21 | N21: =IF(IFERROR((1+F21)*1, "!!!!")="!!!!","Inputs contain non-numerical data. Please check your input data!","")
D22: HEx 1: Heat exchanger (HP - data centre cooling system) delta T | E22: K | F22: 3 | H22: Temperature drop that occurs due to losses in the heat exchanger and heat pipe between the Heat Pump and the Data Centre Cooling System. | I22: Link to additional information / German translation | M22: =N22 | N22: =IF(IFERROR((1+F22)*1, "!!!!")="!!!!","Inputs contain non-numerical data. Please check your input data!","")
D23: Nominal Temperature - Heat Pump Sink In | E23: °C | F23: 60 | H23: Sink-side inlet Temperature: The temperature of the heat sink fluid before it enters the condenser. Nominal temperature for the selected heat pump (e.g. from specification sheets). The actual temperatur of the heat sink (e.g. district heating network return line temperature) shall be provided in the sheet >Definition of Typical Day<. | I23: Link to additional information / German translation | M23: =N23 | N23: =IF(IFERROR((1+F23)*1, "!!!!")="!!!!","Inputs contain non-numerical data. Please check your input data!","")
D24: Upper temperature limit - Heat pump Sink Out | E24: °C | F24: 95 | H24: If the heat pump sink temperature (district heating supply line temperature + delta T of HEx 2) exceed this limit, then the remaining temperature needs to be provided by the booster. | I24: Link to additional information / German translation | M24: =N24 | N24: =IF(IFERROR((1+F24)*1, "!!!!")="!!!!","Inputs contain non-numerical data. Please check your input data!","")
D25: Exponent for capacity drop if temperature spread of sink decreases | F25: 0.5 | H25: Quantifies how sensitively the heat pump's heating capacity decreases when the temperature spread on the sink side (i.e. between sink outlet and inlet) becomes smaller. A higher exponent indicates a stronger reduction in capacity for small temperature spreads. If Zero, than no impact on capacity, if 1 then a reduction of temperature spread of heat sink reduces the capacity by the some ratio. Set value between 0 and 1. | I25: Link to additional information / German translation | M25: =N25 | N25: =IF(IFERROR((1+F25)*1, "!!!!")="!!!!","Inputs contain non-numerical data. Please check your input data!","")
D26: S - Source | E26: - | F26: 0.02 | G26: Check impact of settings on COP | H26: ="Increase of COP per increasing degree of Heat Source In temperature as compared to "&F18&"°C. The impact of the settings on COP can be check at the bottom of this sheet." -> Increase of COP per increasing degree of Heat Source In temperature as compared to 25°C. The impact of the settings on COP can be check at the bottom of this sheet. | I26: Link to additional information / German translation | M26: =N26 | N26: =IF(IFERROR((1+F26)*1, "!!!!")="!!!!","Inputs contain non-numerical data. Please check your input data!","")
D27: S - Flow | E27: - | F27: 0.026 | G27: Check impact of settings on COP | H27: ="Decrease of COP per increasing degree of Heat Sink Out temperature (e.g. grid supply line) as compared to "&F20&"°C. The impact of the settings on COP can be check at the bottom of this sheet." -> Decrease of COP per increasing degree of Heat Sink Out temperature (e.g. grid supply line) as compared to 90°C. The impact of the settings on COP can be check at the bottom of this sheet. | I27: Link to additional information / German translation | M27: =N27 | N27: =IF(IFERROR((1+F27)*1, "!!!!")="!!!!","Inputs contain non-numerical data. Please check your input data!","")
D28: S - Return | E28: - | F28: 0 | G28: Check impact of settings on COP | H28: ="Increase of COP per increasing degree of Heat Sink In temperature (e.g. grid return line) as compared to "&F23&"°C. PLEASE READ ADDITIONAL NOTES" -> Increase of COP per increasing degree of Heat Sink In temperature (e.g. grid return line) as compared to 60°C. PLEASE READ ADDITIONAL NOTES | I28: Link to additional information / German translation | M28: =N28 | N28: =IF(IFERROR((1+F28)*1, "!!!!")="!!!!","Inputs contain non-numerical data. Please check your input data!","")
D29: Share of heat loss in heat exchangers & pipes from HP output | E29: % | F29: 1 | H29: The percentage of thermal energy lost between the heat pump’s output and the grid that lead to reduced heat supplied to the grid as compared to the nominal capacity. This includes losses due to inefficiencies in heat exchangers, as well as thermal losses in piping. | I29: Link to additional information / German translation | M29: =N29 | N29: =IF(IFERROR((1+F29)*1, "!!!!")="!!!!","Inputs contain non-numerical data. Please check your input data!","")
C30: Economic data
D31: Specific investment costs (equipment, installation) | E31: EUR/kW_th | F31: 1500 | H31: The specific costs (i.e. expressed per unit of installed capacity) of acquiring and installing the heat pump system. Please be aware that the costs are defined in EUR/kW_th(out) | I31: Link to additional information / German translation | M31: =N31 | N31: =IF(IFERROR((1+F31)*1, "!!!!")="!!!!","Inputs contain non-numerical data. Please check your input data!","")
D32: Investment costs | E32: EUR | F32: =F31*F14*1000 -> 4500000 | H32: The total upfront investment needed for acquiring and installing the heat pump system. | I32: Link to additional information / German translation | M32: =N32 | N32: =IF(IFERROR((1+F32)*1, "!!!!")="!!!!","Inputs contain non-numerical data. Please check your input data!","")
D33: Other one-time expenses | E33: EUR | F33: 0 | H33: Non-recurring costs that arise during the project but are not directly related to equipment or installation (e.g. site preparation, permits and approvals, engineering or administrative fees) excluding planning as these costs are supposed to be provided below. Enter if applicable. | I33: Link to additional information / German translation | M33: =N33 | N33: =IF(IFERROR((1+F33)*1, "!!!!")="!!!!","Inputs contain non-numerical data. Please check your input data!","")
D34: Total one-time expenses and costs excl. planning costs | E34: EUR | F34: =F33+F32 -> 4500000 | H34: The sum of all upfront costs for the heat pump system except planning-related expenses. It combines investment costs and other one-time expenses. | I34: Link to additional information / German translation | M34: =N34 | N34: =IF(IFERROR((1+F34)*1, "!!!!")="!!!!","Inputs contain non-numerical data. Please check your input data!","")
D35: Regular annual expenses (heat pump specific) | E35: EUR/yr | F35: 0 | H35: ="This parameter includes fixed annual expenses related to the operation of the heat pump system, such as personnel, rent, or service contracts—if applicable. It is considered equivalent to the corresponding value for the heat pump (as referenced in cell >"&D38&"<), normalized to the pump's installed capacity ("&F14&" MW)." -> This parameter includes fixed annual expenses related to the operation of the heat pump system, such as personnel, rent, or service contracts—if applicable. It is considered equivalent to the corresponding value for the heat pump (as referenced in cell >O&M Costs - variable (excl. electricity)<), normalized to the pump's installed capacity (3 MW). | I35: Link to additional information / German translation | M35: =N35 | N35: =IF(IFERROR((1+F35)*1, "!!!!")="!!!!","Inputs contain non-numerical data. Please check your input data!","")
D36: O&M Costs - fix | E36: EUR/MW_th/yr | F36: 22000 | H36: Operation & Maintenance costs that do not depend on system usage. These may include annual inspections, routine maintenance, and service contracts. Has the same impact as the >Regular annual expenses (heat pump specific)< defined above, but is specified per MW_th (nominal capacity) of the heat pump. | I36: Link to additional information / German translation | M36: =N36 | N36: =IF(IFERROR((1+F36)*1, "!!!!")="!!!!","Inputs contain non-numerical data. Please check your input data!","")
D37: Total operation independent O&M costs related to heat pump: regular annual expenses (heat pump specific) + O&M Costs - fix * nominal capacity of heat pump | E37: EUR/yr | F37: =F35+F36*F14 -> 66000 | H37: Refers to the total fixed annual costs needed to keep the heat pump in good working condition, regardless of how much heat it delivers. | I37: Link to additional information / German translation | M37: =N37 | N37: =IF(IFERROR((1+F37)*1, "!!!!")="!!!!","Inputs contain non-numerical data. Please check your input data!","")
D38: O&M Costs - variable (excl. electricity) | E38: EUR/MWh_th | F38: 0 | H38: These are usage-dependent operational costs, excluding electricity. Examples include replacement of parts due to wear, maintenance that varies with operating hours or load, ronsumables (e.g., refrigerant top-up). Enter if relevant. | I38: Link to additional information / German translation | M38: =N38 | N38: =IF(IFERROR((1+F38)*1, "!!!!")="!!!!","Inputs contain non-numerical data. Please check your input data!","")
D39: Electricity - grid fee and other electrical capacity-related costs | E39: EUR/kW_electr_HP/yr | F39: 150 | H39: These are the consumption-independent electricity costs (e.g. grid charge, "LEISTUNGSPREIS" in German) in EUR/kW/yr that come on top of the electricity price (specified in the sheet >Definition of Typical Day<) that need to be paid per yr | I39: Link to additional information / German translation | M39: =N39 | N39: =IF(IFERROR((1+F39)*1, "!!!!")="!!!!","Inputs contain non-numerical data. Please check your input data!","")
D40: Electricity - grid fee and other electrical capacity-related costs | E40: EUR/yr | F40: =F39*F14/F16*1000 -> 150000 | H40: These are the annual consumption-independent electricity (grid) costs ("LEISTUNGSPREIS" in German), calculated by Electricity grid fee (cell above) in EUR/MWh times heat pump capacity (MW) / COP_nominal. This means that the grid fee costs are based on the nominal heat pump performance, not the actual worst case power demand (high temperature, low COP) or the actual rated nominal electricity load capacity of the grid connection. | M40: =N40 | N40: =IF(IFERROR((1+F40)*1, "!!!!")="!!!!","Inputs contain non-numerical data. Please check your input data!","")
D41: Electricity - grid fee and other electricity consumption-related costs | E41: EUR/MWh_electr_fuel | F41: 11 | H41: These are the consumption-dependent electricity costs (e.g. grid charge) that come on top of the electricity price (specified in the sheet >Definition of Typical Day<) that need to be paid when the heat pump system is running. To convert from EURCent/kWh, multiply by 10. | I41: Link to additional information / German translation | M41: =N41 | N41: =IF(IFERROR((1+F41)*1, "!!!!")="!!!!","Inputs contain non-numerical data. Please check your input data!","")
C42: Subsidies
...

Sheet Grid Costs
A1: Go to Content
A3: Colour Code | B3: Header
B4: Item / unit
B5: User input
B6: Cell with formula
B7: Go to Content
B8: Input - not used for calculation
B9: Control cells
B11: Contractor 1 (district heating operator)
B12: Dimension (DN) | C12: mm | D12: 20 | E12: 25 | F12: 32 | G12: 40 | H12: 50 | I12: 65 | J12: 80 | K12: 100 | L12: 125 | M12: 150 | N12: 200 | O12: 250 | P12: 300 | Q12: 350 | R12: 400 | S12: 450 | T12: 500 | U12: 600 | V12: 700 | W12: 800 | X12: 900 | Y12: 1000
A13: Link to additional information / German translation | B13: Specific cost (including pipe works and joints) | C13: EUR/m | D13: 760 | E13: 800 | F13: 856 | G13: 920 | H13: 1000 | I13: 1120 | J13: 1240 | K13: 1400 | L13: 1600 | M13: 1800 | N13: 2200 | O13: 2600 | P13: 3000 | Q13: 3400 | R13: 3800 | S13: 4200 | T13: 4600 | U13: 5400 | V13: 6200 | W13: 7000 | X13: 7800 | Y13: 8600 | AI13: =AJ13 | AJ13: =IF(IFERROR((1+Y13+X13+W13+V13+U13+T13+S13+R13+Q13+P13+O13+N13+M13+L13+K13+J13+I13+H13+G13+F13+E13+D13)*1, "!!!!")="!!!!","Inputs contain non-numerical data. Please check your input data!","")
B14: Trench / pipe length per DN (Ensure that consistent use of either trench or pipe length is used) | AA14: Totals
B15: Pipe length existing DH network (B3) to heat exchanger 2 (HEx 2), if applicable | C15: m | S15: 200 | AA15: Pipe length from HP to Booster | AD15: EUR | AE15: =SUMPRODUCT(D15:Y15,$D$13:$Y$13) -> 840000 | AI15: =AJ15 | AJ15: =IF(IFERROR((1+Y15+X15+W15+V15+U15+T15+S15+R15+Q15+P15+O15+N15+M15+L15+K15+J15+I15+H15+G15+F15+E15+D15)*1, "!!!!")="!!!!","Inputs contain non-numerical data. Please check your input data!","")
B16: Pipe length heat exchanger 2 to heat pump including piping needed to connect booster (if applicable) | C16: m | S16: 20 | AA16: Pipe length from HP to DH grid | AD16: EUR | AE16: =SUMPRODUCT(D16:Y16,$D$13:$Y$13) -> 84000 | AI16: =AJ16 | AJ16: =IF(IFERROR((1+Y16+X16+W16+V16+U16+T16+S16+R16+Q16+P16+O16+N16+M16+L16+K16+J16+I16+H16+G16+F16+E16+D16)*1, "!!!!")="!!!!","Inputs contain non-numerical data. Please check your input data!","")
B17: Pipe length from heat pump to system boundary B2 | C17: m | S17: 30 | AA17: Pipe length from Booster to DH grid | AD17: EUR | AE17: =SUMPRODUCT(D17:Y17,$D$13:$Y$13) -> 126000 | AI17: =AJ17 | AJ17: =IF(IFERROR((1+Y17+X17+W17+V17+U17+T17+S17+R17+Q17+P17+O17+N17+M17+L17+K17+J17+I17+H17+G17+F17+E17+D17)*1, "!!!!")="!!!!","Inputs contain non-numerical data. Please check your input data!","")
B18: Total pipe length within system boundary: Contractor 1 | C18: m | D18: =SUM(D15:D17) -> 0 | E18: =SUM(E15:E17) -> 0 | F18: =SUM(F15:F17) -> 0 | G18: =SUM(G15:G17) -> 0 | H18: =SUM(H15:H17) -> 0 | I18: =SUM(I15:I17) -> 0 | J18: =SUM(J15:J17) -> 0 | K18: =SUM(K15:K17) -> 0 | ... Y18: =SUM(Y15:Y17) -> 0 | AA18: =B18 -> Total pipe length within system boundary: Contractor 1 | AD18: EUR | AE18: =SUMPRODUCT(D18:Y18,$D$13:$Y$13) -> 1050000 | AI18: =AJ18 | AJ18: =IF(IFERROR((1+Y18+X18+W18+V18+U18+T18+S18+R18+Q18+P18+O18+N18+M18+L18+K18+J18+I18+H18+G18+F18+E18+D18)*1, "!!!!")="!!!!","Inputs contain non-numerical data. Please check your input data!","")
B19: Investment costs for network invested by Contractor 1 | C19: EUR | D19: =SUM(D15:D17)*D13 -> 0 | E19: =SUM(E15:E17)*E13 -> 0 | F19: =SUM(F15:F17)*F13 -> 0 | G19: =SUM(G15:G17)*G13 -> 0 | H19: =SUM(H15:H17)*H13 -> 0 | I19: =SUM(I15:I17)*I13 -> 0 | J19: =SUM(J15:J17)*J13 -> 0 | K19: =SUM(K15:K17)*K13 -> 0 | ... Y19: =SUM(Y15:Y17)*Y13 -> 0 | AA19: Total investment | AD19: EUR | AE19: =SUM(AE15:AE17) -> 1050000 | AI19: =AJ19 | AJ19: =IF(IFERROR((1+Y19+X19+W19+V19+U19+T19+S19+R19+Q19+P19+O19+N19+M19+L19+K19+J19+I19+H19+G19+F19+E19+D19)*1, "!!!!")="!!!!","Inputs contain non-numerical data. Please check your input data!","")
B20: Contractor 2 (data centre operator)
B21: Dimension (DN) | C21: mm | D21: 20 | E21: 25 | F21: 32 | G21: 40 | H21: 50 | I21: 65 | J21: 80 | K21: 100 | L21: 125 | M21: 150 | N21: 200 | O21: 250 | P21: 300 | Q21: 350 | R21: 400 | S21: 450 | T21: 500 | U21: 600 | V21: 700 | W21: 800 | X21: 900 | Y21: 1000
B22: Specific cost (including pipe works and joints) | C22: EUR/m | D22: 760 | E22: 800 | F22: 856 | G22: 920 | H22: 1000 | I22: 1120 | J22: 1240 | K22: 1400 | L22: 1600 | M22: 1800 | N22: 2200 | O22: 2600 | P22: 3000 | Q22: 3400 | R22: 3800 | S22: 4200 | T22: 4600 | U22: 5400 | V22: 6200 | W22: 7000 | X22: 7800 | Y22: 8600 | AI22: =AJ22 | AJ22: =IF(IFERROR((1+Y22+X22+W22+V22+U22+T22+S22+R22+Q22+P22+O22+N22+M22+L22+K22+J22+I22+H22+G22+F22+E22+D22)*1, "!!!!")="!!!!","Inputs contain non-numerical data. Please check your input data!","")
B23: Trench / pipe length per DN (Ensure consistent use of either trench or pipe length) | AA23: Totals
B24: Total pipe length from within system boundary B2 to system boundary B1 (existing waste heat source): Contrator 2 / data centre operator | C24: m | S24: 30 | AA24: Pipe length from data centre to HP | AD24: EUR | AE24: =SUMPRODUCT(D24:Y24,$D$13:$Y$13) -> 126000 | AI24: =AJ24 | AJ24: =IF(IFERROR((1+Y24+X24+W24+V24+U24+T24+S24+R24+Q24+P24+O24+N24+M24+L24+K24+J24+I24+H24+G24+F24+E24+D24)*1, "!!!!")="!!!!","Inputs contain non-numerical data. Please check your input data!","")
B25: Investment costs for network invested by Contrator 2 / data centrer operator | C25: EUR | D25: =SUM(D24:D24)*D22 -> 0 | E25: =SUM(E24:E24)*E22 -> 0 | F25: =SUM(F24:F24)*F22 -> 0 | G25: =SUM(G24:G24)*G22 -> 0 | H25: =SUM(H24:H24)*H22 -> 0 | I25: =SUM(I24:I24)*I22 -> 0 | J25: =SUM(J24:J24)*J22 -> 0 | K25: =SUM(K24:K24)*K22 -> 0 | ... Y25: =SUM(Y24:Y24)*Y22 -> 0 | AA25: Total investment | AD25: EUR | AE25: =SUM(AE24:AE24) -> 126000 | AI25: =AJ25 | AJ25: =IF(IFERROR((1+Y25+X25+W25+V25+U25+T25+S25+R25+Q25+P25+O25+N25+M25+L25+K25+J25+I25+H25+G25+F25+E25+D25)*1, "!!!!")="!!!!","Inputs contain non-numerical data. Please check your input data!","")
B30: =B11 -> Contractor 1 (district heating operator)
B50: =B20 -> Contractor 2 (data centre operator)

Sheet Definition of Typical Day
A1: Go to Content
A3: Header | B3: Colour Code
A4: Item / unit
A5: User input
A6: Cell with formula
A7: Go to content
A8: Input - not used for calculation
A10: Control cells | C10: Define meaningful "typical days" for the desired project and your demands
A11: Check settings / input data, there might be some error
B13: Typical day | D13: Typical day | E13: 1 | F13: =E13+1 -> 2 | G13: =F13+1 -> 3 | H13: =G13+1 -> 4 | I13: =H13+1 -> 5 | J13: =I13+1 -> 6 | K13: =J13+1 -> 7 | L13: =K13+1 -> 8 | M13: =L13+1 -> 9 | ... X13: =W13+1 -> 20
A14: Link to additional information / German translation | C14: Name of typical day | D14: Name of typical day | E14: Winter day | F14: Spring / fall weekday | G14: Spring / fall weekend | H14: Summer weekday | I14: Summer weekend | J14: Maintenance of HP | K14: =K13 -> 7 | L14: =L13 -> 8 | M14: =M13 -> 9 | N14: =N13 -> 10 | O14: =O13 -> 11 | P14: =P13 -> 12 | Q14: =Q13 -> 13 | R14: =R13 -> 14 | ... W14: =W13 -> 19 | X14: 20
A15: Link to additional information / German translation | C15: Season of typical day | D15: Season of typical day | E15: Winter | F15: Spring / Fall | G15: Spring / Fall | H15: Summer | I15: Summer | J15: Can occur in any season | Y15: Season
A16: Link to additional information / German translation | C16: Qualitative Description | E16: The amount of waste heat is significantly lower than the heat demand. The grid supply temperature is higher than the maximum heat pump temperature, so additional heating via direct electric heating is required. | F16: On a typical fall weekday, the amount of waste heat is clearly lower than the demand in the existing network. Supply temperatures are not very high yet. | G16: Similar to the weekday scenario – on a fall weekend, the amount of waste heat remains lower than demand, and supply temperatures are still not very high. | H16: On a summer weekday, the supply temperature is lower, and all the available waste heat can be used. | I16: Same as on the weekday – lower supply temperatures allow full utilization of the available waste heat. | J16: The heat pump is out of operation either due to maintenance or due to no heat demand. | Y16: Qualitative Description
D17: Outside Temperature | Y17: =D17 -> Outside Temperature
D18: Available waste heat | E18: High | F18: Moderate | G18: Moderate | Y18: =D18 -> Available waste heat
D19: Waste heat higher than demand | E19: No | F19: No | G19: No | Y19: =D19 -> Waste heat higher than demand
D20: Waste heat temperature | E20: Constant | F20: Constant | G20: Constant | H20: Constant | I20: Constant | Y20: =D20 -> Waste heat temperature
D21: Grid temperature | E21: High | F21: Medium | G21: Medium | H21: Low | I21: Low | Y21: =D21 -> Grid temperature
Y22: =D22 -> 0
D23: HP outage / maintenance | E23: No | F23: No | G23: No | H23: No | I23: No | J23: Yes | Y23: =D23 -> HP outage / maintenance
C25: Economic parameters | Y25: Economic parameters
Y26: =C26 -> 0
A27: Link to additional information / German translation | C27: Electricity price auxiliary electricity (for simplicity, this price includes already grid fees, etc.). | D27: EUR/MWh | E27: 135 | F27: 71 | G27: 71 | H27: 60 | I27: 60 | J27: 66 | Y27: =C27 -> Electricity price auxiliary electricity (for simplicity, this price includes already grid fees, etc.). | AA27: =AB27 | AB27: =IF(IFERROR((1+X27+W27+V27+U27+T27+S27+R27+Q27+P27+O27+N27+M27+L27+K27+J27+I27+H27+G27+F27+E27)*1, "!!!!")="!!!!","Inputs contain non-numerical data. Please check your input data!","")
C30: Technical parameters
C31: Filter for Variable | D31: Filter for hour of the day
B32: 1 | C32: =E32 -> Available waste heat (DC heat source) | D32: Hour of day | E32: Available waste heat (DC heat source) | Y32: Hour of the day
A33: Link to additional information / German translation | B33: =B32 -> 1 | C33: =C32 -> Available waste heat (DC heat source) | E33: MW_th
B34: =B33 -> 1 | C34: =C33 -> Available waste heat (DC heat source) | E34: Hourly thermal output from the data centre that is available for heat recovery. This represents the maximum potential heat input for the heat pump system. In order to consider a scheduled maintenance of the heat pump, the available waste heat can be set to Zero if there is no need to renumerate the waste heat provided by the DC/waste heat operator (e.g in a pay-as-you-go contract)
B35: =B34 -> 1 | C35: =C34 -> Available waste heat (DC heat source) | D35: 1 | E35: 2 | F35: =$E$35 -> 2 | G35: =$E$35 -> 2 | H35: =$E$35 -> 2 | I35: =$E$35 -> 2 | J35: 0 | X35: 0.001 | Y35: 1 | AA35: =AB35 | AB35: =IF(IFERROR((1+X35+W35+V35+U35+T35+S35+R35+Q35+P35+O35+N35+M35+L35+K35+J35+I35+H35+G35+F35+E35)*1, "!!!!")="!!!!","Inputs contain non-numerical data. Please check your input data!","")
B36: =B35 -> 1 | C36: =C35 -> Available waste heat (DC heat source) | D36: 2 | E36: =$E$35 -> 2 | F36: =$E$35 -> 2 | G36: =$E$35 -> 2 | H36: =$E$35 -> 2 | I36: =$E$35 -> 2 | J36: 0 | X36: 0.001 | Y36: 2 | AA36: =AB36 | AB36: =IF(IFERROR((1+X36+W36+V36+U36+T36+S36+R36+Q36+P36+O36+N36+M36+L36+K36+J36+I36+H36+G36+F36+E36)*1, "!!!!")="!!!!","Inputs contain non-numerical data. Please check your input data!","")
B37: =B36 -> 1 | C37: =C36 -> Available waste heat (DC heat source) | D37: 3 | E37: =$E$35 -> 2 | F37: =$E$35 -> 2 | G37: =$E$35 -> 2 | H37: =$E$35 -> 2 | I37: =$E$35 -> 2 | J37: 0 | X37: 0.001 | Y37: 3 | AA37: =AB37 | AB37: =IF(IFERROR((1+X37+W37+V37+U37+T37+S37+R37+Q37+P37+O37+N37+M37+L37+K37+J37+I37+H37+G37+F37+E37)*1, "!!!!")="!!!!","Inputs contain non-numerical data. Please check your input data!","")
B38: =B37 -> 1 | C38: =C37 -> Available waste heat (DC heat source) | D38: 4 | E38: =$E$35 -> 2 | F38: =$E$35 -> 2 | G38: =$E$35 -> 2 | H38: =$E$35 -> 2 | I38: =$E$35 -> 2 | J38: 0 | X38: 0.001 | Y38: 4 | AA38: =AB38 | AB38: =IF(IFERROR((1+X38+W38+V38+U38+T38+S38+R38+Q38+P38+O38+N38+M38+L38+K38+J38+I38+H38+G38+F38+E38)*1, "!!!!")="!!!!","Inputs contain non-numerical data. Please check your input data!","")
B39: =B38 -> 1 | C39: =C38 -> Available waste heat (DC heat source) | D39: 5 | E39: =$E$35 -> 2 | F39: =$E$35 -> 2 | G39: =$E$35 -> 2 | H39: =$E$35 -> 2 | I39: =$E$35 -> 2 | J39: 0 | X39: 0.001 | Y39: 5 | AA39: =AB39 | AB39: =IF(IFERROR((1+X39+W39+V39+U39+T39+S39+R39+Q39+P39+O39+N39+M39+L39+K39+J39+I39+H39+G39+F39+E39)*1, "!!!!")="!!!!","Inputs contain non-numerical data. Please check your input data!","")
B40: =B39 -> 1 | C40: =C39 -> Available waste heat (DC heat source) | D40: 6 | E40: =$E$35 -> 2 | F40: =$E$35 -> 2 | G40: =$E$35 -> 2 | H40: =$E$35 -> 2 | I40: =$E$35 -> 2 | J40: 0 | X40: 0.001 | Y40: 6 | AA40: =AB40 | AB40: =IF(IFERROR((1+X40+W40+V40+U40+T40+S40+R40+Q40+P40+O40+N40+M40+L40+K40+J40+I40+H40+G40+F40+E40)*1, "!!!!")="!!!!","Inputs contain non-numerical data. Please check your input data!","")
B41: =B40 -> 1 | C41: =C40 -> Available waste heat (DC heat source) | D41: 7 | E41: =$E$35 -> 2 | F41: =$E$35 -> 2 | G41: =$E$35 -> 2 | H41: =$E$35 -> 2 | I41: =$E$35 -> 2 | J41: 0 | X41: 0.001 | Y41: 7 | AA41: =AB41 | AB41: =IF(IFERROR((1+X41+W41+V41+U41+T41+S41+R41+Q41+P41+O41+N41+M41+L41+K41+J41+I41+H41+G41+F41+E41)*1, "!!!!")="!!!!","Inputs contain non-numerical data. Please check your input data!","")
B42: =B41 -> 1 | C42: =C41 -> Available waste heat (DC heat source) | D42: 8 | E42: =$E$35 -> 2 | F42: =$E$35 -> 2 | G42: =$E$35 -> 2 | H42: =$E$35 -> 2 | I42: =$E$35 -> 2 | J42: 0 | X42: 0.001 | Y42: 8 | AA42: =AB42 | AB42: =IF(IFERROR((1+X42+W42+V42+U42+T42+S42+R42+Q42+P42+O42+N42+M42+L42+K42+J42+I42+H42+G42+F42+E42)*1, "!!!!")="!!!!","Inputs contain non-numerical data. Please check your input data!","")
B43: =B42 -> 1 | C43: =C42 -> Available waste heat (DC heat source) | D43: 9 | E43: =$E$35 -> 2 | F43: =$E$35 -> 2 | G43: =$E$35 -> 2 | H43: =$E$35 -> 2 | I43: =$E$35 -> 2 | J43: 0 | X43: 0.001 | Y43: 9 | AA43: =AB43 | AB43: =IF(IFERROR((1+X43+W43+V43+U43+T43+S43+R43+Q43+P43+O43+N43+M43+L43+K43+J43+I43+H43+G43+F43+E43)*1, "!!!!")="!!!!","Inputs contain non-numerical data. Please check your input data!","")
B44: =B43 -> 1 | C44: =C43 -> Available waste heat (DC heat source) | D44: 10 | E44: =$E$35 -> 2 | F44: =$E$35 -> 2 | G44: =$E$35 -> 2 | H44: =$E$35 -> 2 | I44: =$E$35 -> 2 | J44: 0 | X44: 0.001 | Y44: 10 | AA44: =AB44 | AB44: =IF(IFERROR((1+X44+W44+V44+U44+T44+S44+R44+Q44+P44+O44+N44+M44+L44+K44+J44+I44+H44+G44+F44+E44)*1, "!!!!")="!!!!","Inputs contain non-numerical data. Please check your input data!","")
B45: =B44 -> 1 | C45: =C44 -> Available waste heat (DC heat source) | D45: 11 | E45: =$E$35 -> 2 | F45: =$E$35 -> 2 | G45: =$E$35 -> 2 | H45: =$E$35 -> 2 | I45: =$E$35 -> 2 | J45: 0 | X45: 0.001 | Y45: 11 | AA45: =AB45 | AB45: =IF(IFERROR((1+X45+W45+V45+U45+T45+S45+R45+Q45+P45+O45+N45+M45+L45+K45+J45+I45+H45+G45+F45+E45)*1, "!!!!")="!!!!","Inputs contain non-numerical data. Please check your input data!","")
B46: =B45 -> 1 | C46: =C45 -> Available waste heat (DC heat source) | D46: 12 | E46: =$E$35 -> 2 | F46: =$E$35 -> 2 | G46: =$E$35 -> 2 | H46: =$E$35 -> 2 | I46: =$E$35 -> 2 | J46: 0 | X46: 0.001 | Y46: 12 | AA46: =AB46 | AB46: =IF(IFERROR((1+X46+W46+V46+U46+T46+S46+R46+Q46+P46+O46+N46+M46+L46+K46+J46+I46+H46+G46+F46+E46)*1, "!!!!")="!!!!","Inputs contain non-numerical data. Please check your input data!","")
...

Sheet Definition of Typical Year
A1: Go to Content
A3: Colour Code | B3: Header
B4: Item / unit
B5: User input
B6: Cell with formula | D6: Cell with formula
B7: Go to Content
B8: Input - not used for calculation
B10: Control cells
B11: Check settings / input data, there might be some error
G12: Technical parameters | W12: Economic Parameters Contractor 1 / DH Operator | AJ12: Economic parameters Contractor 2 / Data centre Operator
B13: Typical days | C13: Name of typical day | D13: Weight of typical day | F13: Days of Typical Day in Typical Year | G13: Average Flow Temperature of data centre cooling system | H13: Average flow temperature HP, source in | I13: Average DH supply line temperature | J13: Average Required Temperature Sink Out | K13: Average DH return line temperature | L13: Average Temperature Heat Pump Sink In | M13: Hours of Operation per day | N13: Hours of operation (full load hour equivalents) per day | O13: Available heat from DC per day | P13: Used heat from DC per day | Q13: Electricity used by Heat pump per day | R13: Fuel used by Booster per day | S13: Heat provided to the grid per day | T13: Avoided Electricity demand for cooling | U13: Remaining Electricity demand for cooling | W13: Waste heat costs in case of pay-as-you-go contract based on negotiated price p_1 between Contractor 1 and Contractor 2 | X13: Electricity cost HP per day | Y13: Electricity costs auxiliary energy | Z13: Fuel costs Booster per day | AA13: Variable O&M costs HP per day | AB13: Variable O&M costs Booster per day | AC13: Total variable costs per day excluding subsidies | AD13: Subsidies for utilized waste heat provided by DC | AE13: Avoided costs of alternative production that has been replaced by waste heat utilisation | AF13: Waste heat costs in case of Take-or-pay contract based on negotiated price p_1 between Contractor 1 and Contractor 2 | AJ13: Avoided electricity costs due to reduced active cooling | AK13: Remaining electricity costs for active cooling | AL13: Energy costs based on p_0 for waste heat from DC (always Take-or-Pay contract type) | AM13: Variable O&M costs | AN13: Waste heat earnings in case of pay-as-you-go contract based on negotiated price p_1 between Contractor 1 and Contractor 2 | AO13: Waste heat earnings in case of Take-or-pay contract based on negotiated price p_1 between Contractor 1 and Contractor 2
B14: - | D14: % | F14: days | G14: °C | H14: °C | I14: °C | J14: °C | K14: °C | L14: °C | M14: hours / day | N14: hours / day | O14: MWh_th / day | P14: MWh_th / day | Q14: MWh_el / day | R14: MWh / day | S14: MWh_th / day | T14: MWh / day | U14: MWh / day | W14: EUR / day | X14: EUR / day | Y14: EUR / day | Z14: EUR / day | AA14: EUR / day | AB14: EUR / day | AC14: EUR / day | AD14: EUR / day | AE14: EUR / day | AF14: EUR / day | AJ14: EUR / day | AK14: EUR / day | AL14: EUR / day | AM14: EUR / day | AN14: EUR / day | AO14: EUR / day
C15: Labels each characteristic day (e.g. Winter day, Summer weekend) | D15: Relative share of typical day in analysed typical year. Shares will be scaled automatically to 100% (365 days per year), if total sum of shares don't sum up to 100% | F15: Number of days that each typical day represents across the entire year | G15: Flow Temperature of the cooling system of the DC | H15: Flow Temperature HP equals the temperature of the cooling system reduced by delta T of the heat exchanger | I15: The required supply temperature for the district heating grid. | J15: Temperature required by the DH grid and needs to be provided by HP + booster (may be higher than what HP alone can deliver). | K15: The return temperature of the district heating network. | L15: Inlet temperature into the heat pump from the sink (DH side). | M15: Number of hours the system is running per day | N15: Number of full-load-hour equivalents per day (MWh_th provided by heat pump / heat pump capacity) | O15: Total thermal energy (waste heat) available from the data centre on that typical day | P15: Amount of the available waste heat that is actually used in the system (e.g. heat pump) | Q15: Amount of electricity consumed by the heat pump to extract and upgrade the waste heat | R15: If additional heating is needed, this reflects the fuel consumption of a booster heater | S15: Total heat delivered to the district heating grid, coming from both the heat pump and booster | T15: Total AVOIDED electricity due to less active cooling needs. (THIS ARE SAVINGS) | U15: Total remaining electricity demand for active cooling | W15: Daily cost for the waste heat based on a variable (usage-based) contract with a negotiated price. These Waste heat costs are part of SRMC. | X15: Total electricity cost for operating the heat pump on that day | Y15: Electricity costs associated with additional or auxiliary components of the system (not the HP) (so SRMC) | Z15: Cost of fuel used by the booster to supplement heating if necessary | AA15: Operating and maintenance costs that vary with usage, associated with the heat pump. | AB15: Operating and maintenance costs that vary with usage, associated with the booster unit. | AC15: Sum of all daily variable costs (electricity, fuel, O&M), excluding any subsidies. | AD15: Daily subsidies received for using waste heat from the data centre. Considered as earnings. | AE15: Costs saved by not using an alternative (usually more expensive) heat production method. Considered as earnings. | AF15: Daily cost under a fixed contract where the buyer pays for a set amount of heat, used or not. These Waste heat costs are NOT part of SRMC. | AJ15: Total hourly REDUCED electricity costs due to less active cooling needs. (THIS ARE SAVINGS) | AK15: Total hourly remaining electricity costs for active cooling | AL15: Waste heat cost based on price p_0 that is paid at the border between data centre cooling and waste heat recovery system under Take-or-Pay conditions | AM15: These are the operation and maintenance costs that vary depending on how much of the heat recovery system is used | AN15: Revenue generated for the data centre based on actual usage and negotiated price. These waste heat costs are part of SRMC. | AO15: Guaranteed revenue for the data centre based on fixed contractual payments.
B16: ='Definition of Typical Day'!$E13 -> 1 | C16: ='Definition of Typical Day'!$E14 -> Winter day | D16: 25 | F16: =365*$D16/SUM($D$16:$D$35) -> 94.608605 | G16: =SUMIFS('Calculation of Typical Day'!I$21:I$500,'Calculation of Typical Day'!$A$21:$A$500,$B16)/24 -> 40 | H16: =SUMIFS('Calculation of Typical Day'!J$21:J$500,'Calculation of Typical Day'!$A$21:$A$500,$B16)/24 -> 37 | I16: =SUMIFS('Calculation of Typical Day'!M$21:M$500,'Calculation of Typical Day'!$A$21:$A$500,$B16)/24 -> 82.430556 | J16: =SUMIFS('Calculation of Typical Day'!O$21:O$500,'Calculation of Typical Day'!$A$21:$A$500,$B16)/24 -> 85.430556 | K16: =SUMIFS('Calculation of Typical Day'!P$21:P$500,'Calculation of Typical Day'!$A$21:$A$500,$B16)/24 -> 45 | L16: =SUMIFS('Calculation of Typical Day'!Q$21:Q$500,'Calculation of Typical Day'!$A$21:$A$500,$B16)/24 -> 48 | M16: =SUMIF('Calculation of Typical Day'!$A$21:$A$500,"="&$B16,'Calculation of Typical Day'!$BZ$21:$BZ$500) -> 24 | N16: =SUMIF('Calculation of Typical Day'!$A$21:$A$500,"="&$B16,'Calculation of Typical Day'!$CA$21:$CA$500) -> 22.7874 | O16: =SUMIFS('Calculation of Typical Day'!H$21:H$500,'Calculation of Typical Day'!$A$21:$A$500,$B16) -> 48 | P16: =SUMIFS('Calculation of Typical Day'!AJ$21:AJ$500,'Calculation of Typical Day'!$A$21:$A$500,$B16,'Calculation of Typical Day'!$BY$21:BY$500, 1) -> 48 | Q16: =SUMIFS('Calculation of Typical Day'!AK$21:AK$500,'Calculation of Typical Day'!$A$21:$A$500,$B16,'Calculation of Typical Day'!$BY$21:BY$500, 1) -> 20.362201 | R16: =SUMIFS('Calculation of Typical Day'!$AL$21:$AL$500,'Calculation of Typical Day'!$A$21:$A$500,$B16,'Calculation of Typical Day'!$BY$21:BY$500, 1) -> 0.50683298 | S16: =SUMIFS('Calculation of Typical Day'!$AH$21:$AH$500,'Calculation of Typical Day'!$A$21:$A$500,$B16,'Calculation of Typical Day'!$BY$21:BY$500, 1) -> 68.175326 | T16: =SUMIFS('Calculation of Typical Day'!AM$21:AM$500,'Calculation of Typical Day'!$A$21:$A$500,$B16,'Calculation of Typical Day'!$BY$21:$BY$500, 1) -> 1.52 | U16: =SUMIFS('Calculation of Typical Day'!AN$21:AN$500,'Calculation of Typical Day'!$A$21:$A$500,$B16) -> 0 | W16: =SUMIFS('Calculation of Typical Day'!AX$21:AX$500,'Calculation of Typical Day'!$A$21:$A$500,$B16,'Calculation of Typical Day'!$BY$21:$BY$500, 1) -> 0 | X16: =SUMIFS('Calculation of Typical Day'!BF$21:BF$500,'Calculation of Typical Day'!$A$21:$A$500,$B16,'Calculation of Typical Day'!$BY$21:$BY$500, 1) -> 1722.2343 | Y16: =SUMIFS('Calculation of Typical Day'!BG$21:BG$500,'Calculation of Typical Day'!$A$21:$A$500,$B16,'Calculation of Typical Day'!$BY$21:$BY$500, 1) -> 185.93271 | Z16: =SUMIFS('Calculation of Typical Day'!BH$21:BH$500,'Calculation of Typical Day'!$A$21:$A$500,$B16,'Calculation of Typical Day'!$BY$21:$BY$500, 1) -> 38.838611 | AA16: =SUMIFS('Calculation of Typical Day'!BQ$21:BQ$500,'Calculation of Typical Day'!$A$21:$A$500,$B16,'Calculation of Typical Day'!$BY$21:$BY$500, 1) -> 0 | AB16: =SUMIFS('Calculation of Typical Day'!BR$21:BR$500,'Calculation of Typical Day'!$A$21:$A$500,$B16,'Calculation of Typical Day'!$BY$21:$BY$500, 1) -> 0 | AC16: =SUMIFS('Calculation of Typical Day'!BT$21:BT$500,'Calculation of Typical Day'!$A$21:$A$500,$B16,'Calculation of Typical Day'!$BY$21:$BY$500, 1) -> 1947.0056 | AD16: =SUMIFS('Calculation of Typical Day'!BL$21:BL$500,'Calculation of Typical Day'!$A$21:$A$500,$B16,'Calculation of Typical Day'!$BY$21:$BY$500, 1) -> 0 | AE16: =SUMIFS('Calculation of Typical Day'!CB$21:CB$500,'Calculation of Typical Day'!$A$21:$A$500,$B16,'Calculation of Typical Day'!$BY$21:$BY$500, 1) -> 4431.3962 | AF16: =SUMIFS('Calculation of Typical Day'!AW$21:AW$500,'Calculation of Typical Day'!$A$21:$A$500,$B16) -> 96 | AJ16: =SUMIFS('Calculation of Typical Day'!BI$21:BI$500,'Calculation of Typical Day'!$A$21:$A$500,$B16,'Calculation of Typical Day'!$BY$21:$BY$500, 1) -> 126.75067 | AK16: =SUMIFS('Calculation of Typical Day'!BJ$21:BJ$500,'Calculation of Typical Day'!$A$21:$A$500,$B16) -> 0 | AL16: =SUMIFS('Calculation of Typical Day'!AQ$21:AQ$500,'Calculation of Typical Day'!$A$21:$A$500,$B16) -> 0 | AM16: =SUMIFS('Calculation of Typical Day'!AR$21:AR$500,'Calculation of Typical Day'!$A$21:$A$500,$B16,'Calculation of Typical Day'!$BY$21:$BY$500, 1) -> 96 | AN16: =W16 -> 0 | AO16: =AF16 -> 96
B17: ='Definition of Typical Day'!$F$13 -> 2 | C17: ='Definition of Typical Day'!$F$14 -> Spring / fall weekday | D17: 33.5 | F17: =365*$D17/SUM($D$16:$D$35) -> 126.77553 | G17: =SUMIFS('Calculation of Typical Day'!I$21:I$500,'Calculation of Typical Day'!$A$21:$A$500,$B17)/24 -> 40 | H17: =SUMIFS('Calculation of Typical Day'!J$21:J$500,'Calculation of Typical Day'!$A$21:$A$500,$B17)/24 -> 37 | I17: =SUMIFS('Calculation of Typical Day'!M$21:M$500,'Calculation of Typical Day'!$A$21:$A$500,$B17)/24 -> 83.125 | J17: =SUMIFS('Calculation of Typical Day'!O$21:O$500,'Calculation of Typical Day'!$A$21:$A$500,$B17)/24 -> 86.125 | K17: =SUMIFS('Calculation of Typical Day'!P$21:P$500,'Calculation of Typical Day'!$A$21:$A$500,$B17)/24 -> 45 | L17: =SUMIFS('Calculation of Typical Day'!Q$21:Q$500,'Calculation of Typical Day'!$A$21:$A$500,$B17)/24 -> 48 | M17: =SUMIF('Calculation of Typical Day'!$A$21:$A$500,"="&$B17,'Calculation of Typical Day'!$BZ$21:$BZ$500) -> 24 | N17: =SUMIF('Calculation of Typical Day'!$A$21:$A$500,"="&$B17,'Calculation of Typical Day'!$CA$21:$CA$500) -> 22.851498 | O17: =SUMIFS('Calculation of Typical Day'!H$21:H$500,'Calculation of Typical Day'!$A$21:$A$500,$B17) -> 48 | P17: =SUMIFS('Calculation of Typical Day'!AJ$21:AJ$500,'Calculation of Typical Day'!$A$21:$A$500,$B17,'Calculation of Typical Day'!$BY$21:BY$500, 1) -> 48 | Q17: =SUMIFS('Calculation of Typical Day'!AK$21:AK$500,'Calculation of Typical Day'!$A$21:$A$500,$B17,'Calculation of Typical Day'!$BY$21:BY$500, 1) -> 20.554493 | R17: =SUMIFS('Calculation of Typical Day'!$AL$21:$AL$500,'Calculation of Typical Day'!$A$21:$A$500,$B17,'Calculation of Typical Day'!$BY$21:BY$500, 1) -> 0 | S17: =SUMIFS('Calculation of Typical Day'!$AH$21:$AH$500,'Calculation of Typical Day'!$A$21:$A$500,$B17,'Calculation of Typical Day'!$BY$21:BY$500, 1) -> 67.868948 | T17: =SUMIFS('Calculation of Typical Day'!AM$21:AM$500,'Calculation of Typical Day'!$A$21:$A$500,$B17,'Calculation of Typical Day'!$BY$21:$BY$500, 1) -> 4.8933333 | U17: =SUMIFS('Calculation of Typical Day'!AN$21:AN$500,'Calculation of Typical Day'!$A$21:$A$500,$B17) -> -4.1448326e-17 | W17: =SUMIFS('Calculation of Typical Day'!AX$21:AX$500,'Calculation of Typical Day'!$A$21:$A$500,$B17,'Calculation of Typical Day'!$BY$21:$BY$500, 1) -> 0 | X17: =SUMIFS('Calculation of Typical Day'!BF$21:BF$500,'Calculation of Typical Day'!$A$21:$A$500,$B17,'Calculation of Typical Day'!$BY$21:$BY$500, 1) -> 1927.4058 | Y17: =SUMIFS('Calculation of Typical Day'!BG$21:BG$500,'Calculation of Typical Day'!$A$21:$A$500,$B17,'Calculation of Typical Day'!$BY$21:$BY$500, 1) -> 97.347381 | Z17: =SUMIFS('Calculation of Typical Day'!BH$21:BH$500,'Calculation of Typical Day'!$A$21:$A$500,$B17,'Calculation of Typical Day'!$BY$21:$BY$500, 1) -> 0 | AA17: =SUMIFS('Calculation of Typical Day'!BQ$21:BQ$500,'Calculation of Typical Day'!$A$21:$A$500,$B17,'Calculation of Typical Day'!$BY$21:$BY$500, 1) -> 0 | AB17: =SUMIFS('Calculation of Typical Day'!BR$21:BR$500,'Calculation of Typical Day'!$A$21:$A$500,$B17,'Calculation of Typical Day'!$BY$21:$BY$500, 1) -> 0 | AC17: =SUMIFS('Calculation of Typical Day'!BT$21:BT$500,'Calculation of Typical Day'!$A$21:$A$500,$B17,'Calculation of Typical Day'!$BY$21:$BY$500, 1) -> 2024.7531 | AD17: =SUMIFS('Calculation of Typical Day'!BL$21:BL$500,'Calculation of Typical Day'!$A$21:$A$500,$B17,'Calculation of Typical Day'!$BY$21:$BY$500, 1) -> 0 | AE17: =SUMIFS('Calculation of Typical Day'!CB$21:CB$500,'Calculation of Typical Day'!$A$21:$A$500,$B17,'Calculation of Typical Day'!$BY$21:$BY$500, 1) -> 4072.1369 | AF17: =SUMIFS('Calculation of Typical Day'!AW$21:AW$500,'Calculation of Typical Day'!$A$21:$A$500,$B17) -> 96 | AJ17: =SUMIFS('Calculation of Typical Day'!BI$21:BI$500,'Calculation of Typical Day'!$A$21:$A$500,$B17,'Calculation of Typical Day'!$BY$21:$BY$500, 1) -> 452.8068 | AK17: =SUMIFS('Calculation of Typical Day'!BJ$21:BJ$500,'Calculation of Typical Day'!$A$21:$A$500,$B17) -> -4.9199163e-15 | AL17: =SUMIFS('Calculation of Typical Day'!AQ$21:AQ$500,'Calculation of Typical Day'!$A$21:$A$500,$B17) -> 0 | AM17: =SUMIFS('Calculation of Typical Day'!AR$21:AR$500,'Calculation of Typical Day'!$A$21:$A$500,$B17,'Calculation of Typical Day'!$BY$21:$BY$500, 1) -> 96 | AN17: =W17 -> 0 | AO17: =AF17 -> 96
B18: ='Definition of Typical Day'!$G$13 -> 3 | C18: ='Definition of Typical Day'!$G$14 -> Spring / fall weekend | D18: =D17*2/5 -> 13.4 | F18: =365*$D18/SUM($D$16:$D$35) -> 50.710213 | G18: =SUMIFS('Calculation of Typical Day'!I$21:I$500,'Calculation of Typical Day'!$A$21:$A$500,$B18)/24 -> 40 | H18: =SUMIFS('Calculation of Typical Day'!J$21:J$500,'Calculation of Typical Day'!$A$21:$A$500,$B18)/24 -> 37 | I18: =SUMIFS('Calculation of Typical Day'!M$21:M$500,'Calculation of Typical Day'!$A$21:$A$500,$B18)/24 -> 83.125 | J18: =SUMIFS('Calculation of Typical Day'!O$21:O$500,'Calculation of Typical Day'!$A$21:$A$500,$B18)/24 -> 86.125 | K18: =SUMIFS('Calculation of Typical Day'!P$21:P$500,'Calculation of Typical Day'!$A$21:$A$500,$B18)/24 -> 45 | L18: =SUMIFS('Calculation of Typical Day'!Q$21:Q$500,'Calculation of Typical Day'!$A$21:$A$500,$B18)/24 -> 48 | M18: =SUMIF('Calculation of Typical Day'!$A$21:$A$500,"="&$B18,'Calculation of Typical Day'!$BZ$21:$BZ$500) -> 24 | N18: =SUMIF('Calculation of Typical Day'!$A$21:$A$500,"="&$B18,'Calculation of Typical Day'!$CA$21:$CA$500) -> 22.851498 | O18: =SUMIFS('Calculation of Typical Day'!H$21:H$500,'Calculation of Typical Day'!$A$21:$A$500,$B18) -> 48 | P18: =SUMIFS('Calculation of Typical Day'!AJ$21:AJ$500,'Calculation of Typical Day'!$A$21:$A$500,$B18,'Calculation of Typical Day'!$BY$21:BY$500, 1) -> 48 | Q18: =SUMIFS('Calculation of Typical Day'!AK$21:AK$500,'Calculation of Typical Day'!$A$21:$A$500,$B18,'Calculation of Typical Day'!$BY$21:BY$500, 1) -> 20.554493 | R18: =SUMIFS('Calculation of Typical Day'!$AL$21:$AL$500,'Calculation of Typical Day'!$A$21:$A$500,$B18,'Calculation of Typical Day'!$BY$21:BY$500, 1) -> 0 | S18: =SUMIFS('Calculation of Typical Day'!$AH$21:$AH$500,'Calculation of Typical Day'!$A$21:$A$500,$B18,'Calculation of Typical Day'!$BY$21:BY$500, 1) -> 67.868948 | T18: =SUMIFS('Calculation of Typical Day'!AM$21:AM$500,'Calculation of Typical Day'!$A$21:$A$500,$B18,'Calculation of Typical Day'!$BY$21:$BY$500, 1) -> 4.8933333 | U18: =SUMIFS('Calculation of Typical Day'!AN$21:AN$500,'Calculation of Typical Day'!$A$21:$A$500,$B18) -> -4.1448326e-17 | W18: =SUMIFS('Calculation of Typical Day'!AX$21:AX$500,'Calculation of Typical Day'!$A$21:$A$500,$B18,'Calculation of Typical Day'!$BY$21:$BY$500, 1) -> 0 | X18: =SUMIFS('Calculation of Typical Day'!BF$21:BF$500,'Calculation of Typical Day'!$A$21:$A$500,$B18,'Calculation of Typical Day'!$BY$21:$BY$500, 1) -> 1381.3092 | Y18: =SUMIFS('Calculation of Typical Day'!BG$21:BG$500,'Calculation of Typical Day'!$A$21:$A$500,$B18,'Calculation of Typical Day'!$BY$21:$BY$500, 1) -> 97.347381 | Z18: =SUMIFS('Calculation of Typical Day'!BH$21:BH$500,'Calculation of Typical Day'!$A$21:$A$500,$B18,'Calculation of Typical Day'!$BY$21:$BY$500, 1) -> 0 | AA18: =SUMIFS('Calculation of Typical Day'!BQ$21:BQ$500,'Calculation of Typical Day'!$A$21:$A$500,$B18,'Calculation of Typical Day'!$BY$21:$BY$500, 1) -> 0 | AB18: =SUMIFS('Calculation of Typical Day'!BR$21:BR$500,'Calculation of Typical Day'!$A$21:$A$500,$B18,'Calculation of Typical Day'!$BY$21:$BY$500, 1) -> 0 | AC18: =SUMIFS('Calculation of Typical Day'!BT$21:BT$500,'Calculation of Typical Day'!$A$21:$A$500,$B18,'Calculation of Typical Day'!$BY$21:$BY$500, 1) -> 1478.6566 | AD18: =SUMIFS('Calculation of Typical Day'!BL$21:BL$500,'Calculation of Typical Day'!$A$21:$A$500,$B18,'Calculation of Typical Day'!$BY$21:$BY$500, 1) -> 0 | AE18: =SUMIFS('Calculation of Typical Day'!CB$21:CB$500,'Calculation of Typical Day'!$A$21:$A$500,$B18,'Calculation of Typical Day'!$BY$21:$BY$500, 1) -> 4072.1369 | AF18: =SUMIFS('Calculation of Typical Day'!AW$21:AW$500,'Calculation of Typical Day'!$A$21:$A$500,$B18) -> 96 | AJ18: =SUMIFS('Calculation of Typical Day'!BI$21:BI$500,'Calculation of Typical Day'!$A$21:$A$500,$B18,'Calculation of Typical Day'!$BY$21:$BY$500, 1) -> 309.32867 | AK18: =SUMIFS('Calculation of Typical Day'!BJ$21:BJ$500,'Calculation of Typical Day'!$A$21:$A$500,$B18) -> -2.9378574e-15 | AL18: =SUMIFS('Calculation of Typical Day'!AQ$21:AQ$500,'Calculation of Typical Day'!$A$21:$A$500,$B18) -> 0 | AM18: =SUMIFS('Calculation of Typical Day'!AR$21:AR$500,'Calculation of Typical Day'!$A$21:$A$500,$B18,'Calculation of Typical Day'!$BY$21:$BY$500, 1) -> 96 | AN18: =W18 -> 0 | AO18: =AF18 -> 96
B19: ='Definition of Typical Day'!$H$13 -> 4 | C19: ='Definition of Typical Day'!$H$14 -> Summer weekday | D19: 17 | F19: =365*$D19/SUM($D$16:$D$35) -> 64.333852 | G19: =SUMIFS('Calculation of Typical Day'!I$21:I$500,'Calculation of Typical Day'!$A$21:$A$500,$B19)/24 -> 40 | H19: =SUMIFS('Calculation of Typical Day'!J$21:J$500,'Calculation of Typical Day'!$A$21:$A$500,$B19)/24 -> 37 | I19: =SUMIFS('Calculation of Typical Day'!M$21:M$500,'Calculation of Typical Day'!$A$21:$A$500,$B19)/24 -> 60 | J19: =SUMIFS('Calculation of Typical Day'!O$21:O$500,'Calculation of Typical Day'!$A$21:$A$500,$B19)/24 -> 63 | K19: =SUMIFS('Calculation of Typical Day'!P$21:P$500,'Calculation of Typical Day'!$A$21:$A$500,$B19)/24 -> 45 | L19: =SUMIFS('Calculation of Typical Day'!Q$21:Q$500,'Calculation of Typical Day'!$A$21:$A$500,$B19)/24 -> 48 | M19: =SUMIF('Calculation of Typical Day'!$A$21:$A$500,"="&$B19,'Calculation of Typical Day'!$BZ$21:$BZ$500) -> 23 | N19: =SUMIF('Calculation of Typical Day'!$A$21:$A$500,"="&$B19,'Calculation of Typical Day'!$CA$21:$CA$500) -> 16.263456 | O19: =SUMIFS('Calculation of Typical Day'!H$21:H$500,'Calculation of Typical Day'!$A$21:$A$500,$B19) -> 48 | P19: =SUMIFS('Calculation of Typical Day'!AJ$21:AJ$500,'Calculation of Typical Day'!$A$21:$A$500,$B19,'Calculation of Typical Day'!$BY$21:BY$500, 1) -> 36.413309 | Q19: =SUMIFS('Calculation of Typical Day'!AK$21:AK$500,'Calculation of Typical Day'!$A$21:$A$500,$B19,'Calculation of Typical Day'!$BY$21:BY$500, 1) -> 12.377059 | R19: =SUMIFS('Calculation of Typical Day'!$AL$21:$AL$500,'Calculation of Typical Day'!$A$21:$A$500,$B19,'Calculation of Typical Day'!$BY$21:BY$500, 1) -> 0 | S19: =SUMIFS('Calculation of Typical Day'!$AH$21:$AH$500,'Calculation of Typical Day'!$A$21:$A$500,$B19,'Calculation of Typical Day'!$BY$21:BY$500, 1) -> 48.302464 | T19: =SUMIFS('Calculation of Typical Day'!AM$21:AM$500,'Calculation of Typical Day'!$A$21:$A$500,$B19,'Calculation of Typical Day'!$BY$21:$BY$500, 1) -> 4.8551078 | U19: =SUMIFS('Calculation of Typical Day'!AN$21:AN$500,'Calculation of Typical Day'!$A$21:$A$500,$B19) -> 1.5448922 | W19: =SUMIFS('Calculation of Typical Day'!AX$21:AX$500,'Calculation of Typical Day'!$A$21:$A$500,$B19,'Calculation of Typical Day'!$BY$21:$BY$500, 1) -> 0 | X19: =SUMIFS('Calculation of Typical Day'!BF$21:BF$500,'Calculation of Typical Day'!$A$21:$A$500,$B19,'Calculation of Typical Day'!$BY$21:$BY$500, 1) -> 1143.086 | Y19: =SUMIFS('Calculation of Typical Day'!BG$21:BG$500,'Calculation of Typical Day'!$A$21:$A$500,$B19,'Calculation of Typical Day'!$BY$21:$BY$500, 1) -> 58.548441 | Z19: =SUMIFS('Calculation of Typical Day'!BH$21:BH$500,'Calculation of Typical Day'!$A$21:$A$500,$B19,'Calculation of Typical Day'!$BY$21:$BY$500, 1) -> 0 | AA19: =SUMIFS('Calculation of Typical Day'!BQ$21:BQ$500,'Calculation of Typical Day'!$A$21:$A$500,$B19,'Calculation of Typical Day'!$BY$21:$BY$500, 1) -> 0 | AB19: =SUMIFS('Calculation of Typical Day'!BR$21:BR$500,'Calculation of Typical Day'!$A$21:$A$500,$B19,'Calculation of Typical Day'!$BY$21:$BY$500, 1) -> 0 | AC19: =SUMIFS('Calculation of Typical Day'!BT$21:BT$500,'Calculation of Typical Day'!$A$21:$A$500,$B19,'Calculation of Typical Day'!$BY$21:$BY$500, 1) -> 1201.6344 | AD19: =SUMIFS('Calculation of Typical Day'!BL$21:BL$500,'Calculation of Typical Day'!$A$21:$A$500,$B19,'Calculation of Typical Day'!$BY$21:$BY$500, 1) -> 0 | AE19: =SUMIFS('Calculation of Typical Day'!CB$21:CB$500,'Calculation of Typical Day'!$A$21:$A$500,$B19,'Calculation of Typical Day'!$BY$21:$BY$500, 1) -> 1932.0986 | AF19: =SUMIFS('Calculation of Typical Day'!AW$21:AW$500,'Calculation of Typical Day'!$A$21:$A$500,$B19) -> 96 | AJ19: =SUMIFS('Calculation of Typical Day'!BI$21:BI$500,'Calculation of Typical Day'!$A$21:$A$500,$B19,'Calculation of Typical Day'!$BY$21:$BY$500, 1) -> 443.53943 | AK19: =SUMIFS('Calculation of Typical Day'!BJ$21:BJ$500,'Calculation of Typical Day'!$A$21:$A$500,$B19) -> 170.22857 | AL19: =SUMIFS('Calculation of Typical Day'!AQ$21:AQ$500,'Calculation of Typical Day'!$A$21:$A$500,$B19) -> 0 | AM19: =SUMIFS('Calculation of Typical Day'!AR$21:AR$500,'Calculation of Typical Day'!$A$21:$A$500,$B19,'Calculation of Typical Day'!$BY$21:$BY$500, 1) -> 72.826617 | AN19: =W19 -> 0 | AO19: =AF19 -> 96
